BEGIN:VCALENDAR
VERSION:2.0
PRODID:https://github.com/derhansen/sf_event_mgt
METHOD:PUBLISH
BEGIN:VEVENT
UID:3090-872@www.ameos.at
CLASS: PUBLIC
SUMMARY:Sprechen wir über Zwänge
DESCRIPTION:Die meisten Menschen haben im Alltag Rituale, Gewohnheiten oder
  sogar zwangsähnliche Verhaltensweisen. Doch auch wenn die Übergänge gelege
 ntlich fließend sind, lässt sich eine Zwangsstörung meist eindeutig davon a
 bgrenzen. Menschen mit Zwangsstörungen leiden unter ihrer Symptomatik, denn
  Zwänge sind anstrengend, zeitaufwendig und beeinträchtigen die Betroffenen
  ernsthaft im Alltag, Beruf oder in Familie und Freundeskreis. Die gute Nac
 hricht ist: Zwangsstörungen sind gut behandelbar.\n\nWie man trotz Zwängen 
 den Alltag meistern kann, weiß Dr. med. Ulrich Förstner, Oberarzt und Leite
 r des Behandlungsschwerpunktes Zwangsstörungen in den AMEOS Klinika in Bad 
 Aussee.\n\nIm Rahmen eines Podiumsgesprächs werden Ursachen, Auswirkungen u
 nd Therapiemöglichkeiten mit dem Experten und Betroffenen erörtert. Seien S
 ie dabei, erfahren Sie mehr und diskutieren Sie mit! \n\nZeit: Dienstag, 3.
  Juni 2025, 18:30 UhrOrt: KURIER Medienlounge, Leopold-Ungar-Platz 1, 1190 
 WienDie Teilnahme ist kostenlos, Anmeldung erforderlich unter: kurier-event
 s.at/zwaenge  
LOCATION:KURIER Medienlounge
DTSTAMP:20250511T220335Z
DTSTART:20250603T163000Z
DTEND:20250603T183000Z
END:VEVENT
END:VCALENDAR
