BEGIN:VCALENDAR
VERSION:2.0
PRODID:https://github.com/derhansen/sf_event_mgt
METHOD:PUBLISH
BEGIN:VEVENT
UID:3089-872@www.ameos.at
CLASS: PUBLIC
SUMMARY:Die unsichtbare Wunde - Leben nach dem Trauma
DESCRIPTION:Traumatisierte Menschen kämpfen oft mit Symptomen, die sie selb
 st kaum verstehen - und im Außen selten richtig gesehen werden. Wie entsteh
 en Traumafolgesymptome? Was kann helfen, wenn das Erlebte nicht zur Ruhe ko
 mmt? Und wie funktioniert eine moderne Behandlung bei posttraumatischer Bel
 astungsstörung?\n\nIn Kooperation mit dem Münchner Merkur/tz lädt das AMEOS
  Privatklinikum Bad Aussee zu einer offenen Abendveranstaltung ein - für Be
 troffene, Angehörige, Behandlerinnen und Behandler und allgemein Interessie
 rte:\n\nDie unsichtbare Wunde - Leben nach dem Trauma\n\nIm Rahmen des Podi
 umsgesprächs geben Prof. Dr. Dr. Hans-Peter Kapfhammer von der Medizinische
 n Universität Graz sowie Mag. Sophie Heidler, Leitende Psychologin und Fabi
 enne Urschinger MSc., Klinische Psychologin vom AMEOS Privatklinikum Bad Au
 ssee wertvolle Einblicke in Ursachen, Symptome und wirksame Therapieansätze
  – wie z. B. Psychodrama und EMDR. Die Veranstaltung wird durch die persönl
 ichen Erfahrungen einer Betroffenen ergänzt.  \n\nZeit: Mittwoch, 21. Mai 2
 025, 18 Uhr Ort: " Alte Rotation" im Pressehaus des Münchner Merkur/tz, Bay
 erstr. 57, 80335 MünchenDie Veranstaltung ist kostenlos. Anmeldung erbeten 
 unter +49 89 530 6222 
LOCATION:Pressehaus Bayerstraße - "Alte Rotation"
DTSTAMP:20250511T194735Z
DTSTART:20250521T160000Z
DTEND:20250521T180000Z
END:VEVENT
END:VCALENDAR
